BEGIN:VCALENDAR
VERSION:2.0
PRODID:-//ChamberMaster//Event Calendar 2.0//EN
METHOD:PUBLISH
X-PUBLISHED-TTL:P1H
REFRESH-INTERVAL:P1H
CALSCALE:GREGORIAN
BEGIN:VTIMEZONE
TZID:America/New_York
BEGIN:DAYLIGHT
RRULE:FREQ=YEARLY;BYMONTH=3;BYDAY=2SU
DTSTART:20070101T000000
TZOFFSETFROM:-0500
TZOFFSETTO:-0400
TZNAME:Eastern Daylight Time
END:DAYLIGHT
BEGIN:STANDARD
RRULE:FREQ=YEARLY;BYMONTH=11;BYDAY=1SU
DTSTART:20070101T000000
TZOFFSETFROM:-0400
TZOFFSETTO:-0500
TZNAME:Eastern Standard Time
END:STANDARD
END:VTIMEZONE
BEGIN:VEVENT
DTSTART;TZID=America/New_York:20260408T140000
DTEND;TZID=America/New_York:20260408T150000
X-MICROSOFT-CDO-ALLDAYEVENT:FALSE
SUMMARY:[Partner Event] FAME: Advantage SIS Webinar
DESCRIPTION:https://attendee.gotowebinar.com/register/5761875690325797215?source=April+2026\n\nJoin us for a live demo of Fame’s Advantage SIS and see how our all-in-one platform simplifies admissions\, enrollment\, attendance\, academic tracking\, and compliance. Discover a smarter\, more efficient way to manage your school’s daily operations. ***Access to this webinar will be provided following registration approval
X-ALT-DESC;FMTTYPE=text/html:https://attendee.gotowebinar.com/register/5761875690325797215?source=April+2026\n\nJoin us for a live demo of Fame’s Advantage SIS and see how our all-in-one platform simplifies admissions\, enrollment\, attendance\, academic tracking\, and compliance. Discover a smarter\, more efficient way to manage your school’s daily operations. ***Access to this webinar will be provided following registration approval
LOCATION:
UID:e.3904.1420843
SEQUENCE:3
DTSTAMP:20260419T133100Z
URL:https://members.myaacs.org/events/Details/partner-event-fame-advantage-sis-webinar-1679878?sourceTypeId=Hub
END:VEVENT
END:VCALENDAR
